BEGIN:VCALENDAR
VERSION:2.0
PRODID:-//Westend Coffee Company - ECPv6.15.20//NONSGML v1.0//EN
CALSCALE:GREGORIAN
METHOD:PUBLISH
X-ORIGINAL-URL:https://www.westendcoffee.co
X-WR-CALDESC:Events for Westend Coffee Company
REFRESH-INTERVAL;VALUE=DURATION:PT1H
X-Robots-Tag:noindex
X-PUBLISHED-TTL:PT1H
BEGIN:VTIMEZONE
TZID:UTC
BEGIN:STANDARD
TZOFFSETFROM:+0000
TZOFFSETTO:+0000
TZNAME:UTC
DTSTART:20230101T000000
END:STANDARD
END:VTIMEZONE
BEGIN:VTIMEZONE
TZID:Asia/Kolkata
BEGIN:STANDARD
TZOFFSETFROM:+0530
TZOFFSETTO:+0530
TZNAME:IST
DTSTART:20230101T000000
END:STANDARD
END:VTIMEZONE
BEGIN:VEVENT
DTSTART;VALUE=DATE:20241202
DTEND;VALUE=DATE:20241207
DTSTAMP:20260426T094758
CREATED:20241118T033200Z
LAST-MODIFIED:20241118T033200Z
UID:20220-1733097600-1733529599@www.westendcoffee.co
SUMMARY:BTP Mysuru 5th Batch - “A bean to brew journey” - Master the Basics of Brewing by COFFEE BOARD OF INDIA
DESCRIPTION:
URL:https://www.westendcoffee.co/event/btp-mysuru-5th-batch-a-bean-to-brew-journey-master-the-basics-of-brewing-by-coffee-board-of-india/
LOCATION:HQ – Westend Coffee Company – CHPL\, No.771/1\, 1st Floor\, Kalidasa Road\, Vijayanagara 1st Stage\, Mysuru\, Karnataka\, 570017\, India
CATEGORIES:Academy
ATTACH;FMTTYPE=image/webp:https://www.westendcoffee.co/wp-content/uploads/2024/07/Untitled-design-45.webp
ORGANIZER;CN="Coffee Board of India":MAILTO:baristatraining.coffeeboard@gmail.com
END:VEVENT
BEGIN:VEVENT
DTSTART;VALUE=DATE:20240819
DTEND;VALUE=DATE:20240824
DTSTAMP:20260426T094758
CREATED:20240710T162120Z
LAST-MODIFIED:20241118T032958Z
UID:19855-1724025600-1724457599@www.westendcoffee.co
SUMMARY:BTP Mysuru 4th Batch -  “A bean to brew journey” - Master the Basics of Brewing by COFFEE BOARD OF INDIA
DESCRIPTION:Brochure MYSURU Training 3RD BATCH
URL:https://www.westendcoffee.co/event/a-bean-to-brew-journey-master-the-basics-of-brewing-by-coffee-board-of-india/
LOCATION:HQ – Westend Coffee Company – CHPL\, No.771/1\, 1st Floor\, Kalidasa Road\, Vijayanagara 1st Stage\, Mysuru\, Karnataka\, 570017\, India
CATEGORIES:Academy
ATTACH;FMTTYPE=image/webp:https://www.westendcoffee.co/wp-content/uploads/2024/07/Untitled-design-45.webp
ORGANIZER;CN="Coffee Board of India":MAILTO:baristatraining.coffeeboard@gmail.com
END:VEVENT
END:VCALENDAR