BEGIN:VCALENDAR
VERSION:2.0
PRODID:-//Westend Coffee Company - ECPv6.15.20//NONSGML v1.0//EN
CALSCALE:GREGORIAN
METHOD:PUBLISH
X-WR-CALNAME:Westend Coffee Company
X-ORIGINAL-URL:https://www.westendcoffee.co
X-WR-CALDESC:Events for Westend Coffee Company
REFRESH-INTERVAL;VALUE=DURATION:PT1H
X-Robots-Tag:noindex
X-PUBLISHED-TTL:PT1H
BEGIN:VTIMEZONE
TZID:Asia/Kolkata
BEGIN:STANDARD
TZOFFSETFROM:+0530
TZOFFSETTO:+0530
TZNAME:IST
DTSTART:20230101T000000
END:STANDARD
END:VTIMEZONE
BEGIN:VEVENT
DTSTART;TZID=Asia/Kolkata:20240518T173000
DTEND;TZID=Asia/Kolkata:20240518T210000
DTSTAMP:20260425T050836
CREATED:20240623T134219Z
LAST-MODIFIED:20240623T134219Z
UID:19842-1716053400-1716066000@www.westendcoffee.co
SUMMARY:Live music
DESCRIPTION:
URL:https://www.westendcoffee.co/event/live-music/
LOCATION:Westend Coffee Company – Boho\, Shop No. 2&3\, No. 187\, 9th Cross Rd\, 3rd Stage\, Gokulam 3rd Stage\, Gokulam\, Mysuru\, Karnataka\, 570002\, India
CATEGORIES:Live Misic
END:VEVENT
END:VCALENDAR